BEGIN:VCALENDAR
VERSION:2.0
PRODID:icalendar-ruby
CALSCALE:GREGORIAN
METHOD:PUBLISH
BEGIN:VEVENT
DTSTAMP:20260421T131322Z
UID:38-328745@parkhillschurch.com
DTSTART:20261027T120000Z
DTEND:20261027T130000Z
CLASS:PUBLIC
CREATED:20260421T070247
DESCRIPTION:Men: Join us for coffee\, treats and fellowship every Tuesday m
 orning. We meet in the lobby\, enter at the Worship Center Doors\, marked 
 "B".
LAST-MODIFIED:20260421T070247
LOCATION:Freeport Campus
SUMMARY:JAVA Tuesday | Men's Ministry 
URL;VALUE=URI:https://parkhillschurch.com/events/java-tuesday-mens-ministry
 /2026-10-27
ATTACH;FILENAME=Java-Tuesday-calendar-icon.png;FMTTYPE=image/png:https://dq
 5pwpg1q8ru0.cloudfront.net/2025/02/05/14/48/03/3545c268-3967-4557-8920-16c
 1372e7240/Java-Tuesday-calendar-icon.png
END:VEVENT
END:VCALENDAR
