BEGIN:VCALENDAR
VERSION:2.0
PRODID:icalendar-ruby
CALSCALE:GREGORIAN
METHOD:PUBLISH
BEGIN:VEVENT
DTSTAMP:20260425T154809Z
UID:175-322823@parkhillschurch.com
DTSTART;VALUE=DATE:20260717
DTEND;VALUE=DATE:20260718
CLASS:PUBLIC
CREATED:20260416T094814
DESCRIPTION:Rooted in 1 Corinthians 16:13-14—“Be watchful\, stand firm 
 in the faith\, act like men\, be strong. Let all that you do be done in lo
 ve.”—the 1613 Men's Conference is a transformative gathering for men d
 edicated to biblical manhood and deepening their relationship with Jesus C
 hrist. This event unites men from all walks of life to pursue Christ and e
 mbrace virtues like integrity\, compassion\, and moral courage. \n\nExperi
 ence dynamic sessions on living out faith authentically\, engage in bold c
 onversations that redefine true masculinity\, and connect in Christian fel
 lowship that reinforces you’re not alone. \nLeave revitalized and inspir
 ed to reflect Christ’s strength and lead courageously in your home\, wor
 kplace\, and community.\n\nFriday\, July 17 6:00 PM – 9:00 PM | Saturday
 \, July 18 8:00 AM – 5:00 PM\nLIVE-STREAMED @ 500 W Winnebago St\, Winne
 bago\, IL 61088\nPrice to attend is $40 per person.
LAST-MODIFIED:20260416T094814
LOCATION:Winnebago Campus
SUMMARY:1613 MEN'S CONFERENCE
URL;VALUE=URI:https://parkhillschurch.com/events/1613-mens-conference/2026-
 07-17
ATTACH;FILENAME=1613-Calendar1500-x-755-px.png;FMTTYPE=image/png:https://dq
 5pwpg1q8ru0.cloudfront.net/2026/04/16/13/09/40/316278a8-cf61-4bc0-ac10-289
 c79c130a1/1613-Calendar1500-x-755-px.png
END:VEVENT
END:VCALENDAR
